BEGIN:VCALENDAR
VERSION:2.0
PRODID:-//Aurora Highlands Civic Association (AHCA) - ECPv6.15.14//NONSGML v1.0//EN
CALSCALE:GREGORIAN
METHOD:PUBLISH
X-ORIGINAL-URL:https://aurorahighlands.org
X-WR-CALDESC:Events for Aurora Highlands Civic Association (AHCA)
REFRESH-INTERVAL;VALUE=DURATION:PT1H
X-Robots-Tag:noindex
X-PUBLISHED-TTL:PT1H
BEGIN:VTIMEZONE
TZID:America/New_York
BEGIN:DAYLIGHT
TZOFFSETFROM:-0500
TZOFFSETTO:-0400
TZNAME:EDT
DTSTART:20190310T070000
END:DAYLIGHT
BEGIN:STANDARD
TZOFFSETFROM:-0400
TZOFFSETTO:-0500
TZNAME:EST
DTSTART:20191103T060000
END:STANDARD
BEGIN:DAYLIGHT
TZOFFSETFROM:-0500
TZOFFSETTO:-0400
TZNAME:EDT
DTSTART:20200308T070000
END:DAYLIGHT
BEGIN:STANDARD
TZOFFSETFROM:-0400
TZOFFSETTO:-0500
TZNAME:EST
DTSTART:20201101T060000
END:STANDARD
BEGIN:DAYLIGHT
TZOFFSETFROM:-0500
TZOFFSETTO:-0400
TZNAME:EDT
DTSTART:20210314T070000
END:DAYLIGHT
BEGIN:STANDARD
TZOFFSETFROM:-0400
TZOFFSETTO:-0500
TZNAME:EST
DTSTART:20211107T060000
END:STANDARD
END:VTIMEZONE
BEGIN:VTIMEZONE
TZID:America/New_York
BEGIN:DAYLIGHT
TZOFFSETFROM:-0500
TZOFFSETTO:-0400
TZNAME:EDT
DTSTART:20150308T070000
END:DAYLIGHT
BEGIN:STANDARD
TZOFFSETFROM:-0400
TZOFFSETTO:-0500
TZNAME:EST
DTSTART:20151101T060000
END:STANDARD
BEGIN:DAYLIGHT
TZOFFSETFROM:-0500
TZOFFSETTO:-0400
TZNAME:EDT
DTSTART:20160313T070000
END:DAYLIGHT
BEGIN:STANDARD
TZOFFSETFROM:-0400
TZOFFSETTO:-0500
TZNAME:EST
DTSTART:20161106T060000
END:STANDARD
BEGIN:DAYLIGHT
TZOFFSETFROM:-0500
TZOFFSETTO:-0400
TZNAME:EDT
DTSTART:20170312T070000
END:DAYLIGHT
BEGIN:STANDARD
TZOFFSETFROM:-0400
TZOFFSETTO:-0500
TZNAME:EST
DTSTART:20171105T060000
END:STANDARD
END:VTIMEZONE
BEGIN:VEVENT
DTSTART;TZID=America/New_York:20200222T090000
DTEND;TZID=America/New_York:20200222T150000
DTSTAMP:20260423T221757
CREATED:20200207T085842Z
LAST-MODIFIED:20200207T090234Z
UID:4040-1582362000-1582383600@aurorahighlands.org
SUMMARY:Livability Workshop: Open Space
DESCRIPTION:We all know that 22202 is a great place to live.  But for many of us\, the only backyard we have is our neighborhood. With all the new proposed development\, we have an opportunity to reshape what our backyard looks like.  What do we love? What’s missing? What’s not working? Could our open spaces be greener or more attractive?  More inviting or accessible?      \nWe are inviting you to attend a workshop where you can share your experience\, learn about existing and planned open spaces\, and help develop a community vision for Open Space in 22202. \nThis is a part of a resident-led effort to ensure that planning for open space\, as well as for community needs such as schools\, transportation\, and housing affordability\, is holistic\, responsive\, and comprehensive. And we will begin to define priorities for Open Space in the County’s Capital Improvement Plan (CIP). You can read more about the Livability 22202 Action Plan at http://livability22202.org/  \nThe workshop will focus on discussing ideas for four topics\, with walking tours in the morning and afternoon: \n\nDeveloping a holistic approach to planning Crystal City Parks\nRe-envisioning Virginia Highlands Park as the backyard for the Pentagon City community\nConnecting residents to the natural world and enhancing biodiversity throughout 22202 green spaces\nExploring the possibility for a publicly accessible greenway from Roaches Run Waterfowl Sanctuary along the railroad tracks to the southern end of Crystal City\n\nThe workshop is scheduled for February 22\, from 9am to 3pm\, at the Crystal City Marriott\, 1999 Richmond Hwy (the corner of 20th and Clark Bell).  An informal lunch is included. It will be interactive\, with opportunities to hear from fellow residents who have different experiences and needs for Open Space. \nPlease join us if you can. Space is limited so sign up soon. Please indicate which of the four workshop topics you are most interested in\, and we will do our best to include you in the group you prefer. But in any of the groups\, you will bring your experience to the table and learn from others!
URL:https://aurorahighlands.org/event/livability-workshop-open-space/
LOCATION:Crystal City Marriott\, 1999 Richmond Highway\, Arlington\, VA\, 22202\, United States
CATEGORIES:Development
END:VEVENT
BEGIN:VEVENT
DTSTART;TZID=America/New_York:20160406T190000
DTEND;TZID=America/New_York:20160406T203000
DTSTAMP:20260423T221757
CREATED:20160404T180454Z
LAST-MODIFIED:20160404T180454Z
UID:1413-1459969200-1459974600@aurorahighlands.org
SUMMARY:Met Park Open Space Meeting
DESCRIPTION:With the Metropolitan Park Phase 6 Site Plan\, the last section of the “Central Open Space” will be built. The community is welcome to an open house to provide input on the features of the new open space. Also learn about the future improvements to the section of S Eads Street along Metropolitan Park.
URL:https://aurorahighlands.org/event/met-park-open-space-meeting/
LOCATION:Aurora Hills Community Center\, 735 18th Street South\, Arlington\, VA\, 22202\, United States
CATEGORIES:Development
ORGANIZER;CN="Diane Probus":MAILTO:dprobus@arlingtonva.us
END:VEVENT
BEGIN:VEVENT
DTSTART;TZID=America/New_York:20160204T190000
DTEND;TZID=America/New_York:20160204T203000
DTSTAMP:20260423T221757
CREATED:20160128T224635Z
LAST-MODIFIED:20160128T224827Z
UID:1231-1454612400-1454617800@aurorahighlands.org
SUMMARY:S Fern St - Final design review
DESCRIPTION:Review of final design for a proposed Neighborhood Conservation Street Improvement project for S Fern Street from 19th to 22nd Streets S. \nThe project is a pedestrian safety improvement proposed to include the installation of curb\, gutter and sidewalk on the west side of Fern Street (the side currently without sidewalk) along with a grass utility strip in between the sidewalk and the street. The project proposes to extend the sidewalk out from the existing curb\, which means all of the improvements will be pulled out into Fern Street. \nStaff will present the final design for information purposes\, and include time to answer questions. \nSee Fern Street construction plans.
URL:https://aurorahighlands.org/event/s-fern-st-final-design-review/
LOCATION:Aurora Hills Community Center\, 735 18th Street South\, Arlington\, VA\, 22202\, United States
CATEGORIES:Development
END:VEVENT
BEGIN:VEVENT
DTSTART;TZID=America/New_York:20160120T183000
DTEND;TZID=America/New_York:20160120T193000
DTSTAMP:20260423T221757
CREATED:20160105T185116Z
LAST-MODIFIED:20160105T185116Z
UID:410-1453314600-1453318200@aurorahighlands.org
SUMMARY:Community Center/Library Renovations - Public Meeting
DESCRIPTION:County staff will be sharing 100% design plans for the project with the public. Planned work includes renovations to both the community center and library. Construction is planned for 2016-2017. \nFor more information: http://projects.arlingtonva.us/projects/aurora-hills-complex-interior-refresh-project/
URL:https://aurorahighlands.org/event/community-centerlibrary-renovations-public-meeting/
LOCATION:Aurora Hills Community Center\, 735 18th Street South\, Arlington\, VA\, 22202\, United States
CATEGORIES:Development,Yearly Events
END:VEVENT
END:VCALENDAR