BEGIN:VCALENDAR
VERSION:2.0
PRODID:-//Aurora Highlands Civic Association (AHCA) - ECPv6.15.14//NONSGML v1.0//EN
CALSCALE:GREGORIAN
METHOD:PUBLISH
X-WR-CALNAME:Aurora Highlands Civic Association (AHCA)
X-ORIGINAL-URL:https://aurorahighlands.org
X-WR-CALDESC:Events for Aurora Highlands Civic Association (AHCA)
REFRESH-INTERVAL;VALUE=DURATION:PT1H
X-Robots-Tag:noindex
X-PUBLISHED-TTL:PT1H
BEGIN:VTIMEZONE
TZID:America/New_York
BEGIN:DAYLIGHT
TZOFFSETFROM:-0500
TZOFFSETTO:-0400
TZNAME:EDT
DTSTART:20180311T070000
END:DAYLIGHT
BEGIN:STANDARD
TZOFFSETFROM:-0400
TZOFFSETTO:-0500
TZNAME:EST
DTSTART:20181104T060000
END:STANDARD
BEGIN:DAYLIGHT
TZOFFSETFROM:-0500
TZOFFSETTO:-0400
TZNAME:EDT
DTSTART:20190310T070000
END:DAYLIGHT
BEGIN:STANDARD
TZOFFSETFROM:-0400
TZOFFSETTO:-0500
TZNAME:EST
DTSTART:20191103T060000
END:STANDARD
BEGIN:DAYLIGHT
TZOFFSETFROM:-0500
TZOFFSETTO:-0400
TZNAME:EDT
DTSTART:20200308T070000
END:DAYLIGHT
BEGIN:STANDARD
TZOFFSETFROM:-0400
TZOFFSETTO:-0500
TZNAME:EST
DTSTART:20201101T060000
END:STANDARD
BEGIN:DAYLIGHT
TZOFFSETFROM:-0500
TZOFFSETTO:-0400
TZNAME:EDT
DTSTART:20210314T070000
END:DAYLIGHT
BEGIN:STANDARD
TZOFFSETFROM:-0400
TZOFFSETTO:-0500
TZNAME:EST
DTSTART:20211107T060000
END:STANDARD
END:VTIMEZONE
BEGIN:VTIMEZONE
TZID:America/New_York
BEGIN:DAYLIGHT
TZOFFSETFROM:-0500
TZOFFSETTO:-0400
TZNAME:EDT
DTSTART:20150308T070000
END:DAYLIGHT
BEGIN:STANDARD
TZOFFSETFROM:-0400
TZOFFSETTO:-0500
TZNAME:EST
DTSTART:20151101T060000
END:STANDARD
BEGIN:DAYLIGHT
TZOFFSETFROM:-0500
TZOFFSETTO:-0400
TZNAME:EDT
DTSTART:20160313T070000
END:DAYLIGHT
BEGIN:STANDARD
TZOFFSETFROM:-0400
TZOFFSETTO:-0500
TZNAME:EST
DTSTART:20161106T060000
END:STANDARD
BEGIN:DAYLIGHT
TZOFFSETFROM:-0500
TZOFFSETTO:-0400
TZNAME:EDT
DTSTART:20170312T070000
END:DAYLIGHT
BEGIN:STANDARD
TZOFFSETFROM:-0400
TZOFFSETTO:-0500
TZNAME:EST
DTSTART:20171105T060000
END:STANDARD
BEGIN:DAYLIGHT
TZOFFSETFROM:-0500
TZOFFSETTO:-0400
TZNAME:EDT
DTSTART:20180311T070000
END:DAYLIGHT
BEGIN:STANDARD
TZOFFSETFROM:-0400
TZOFFSETTO:-0500
TZNAME:EST
DTSTART:20181104T060000
END:STANDARD
END:VTIMEZONE
BEGIN:VEVENT
DTSTART;TZID=America/New_York:20200311T190000
DTEND;TZID=America/New_York:20200311T210000
DTSTAMP:20260423T151026
CREATED:20200207T090933Z
LAST-MODIFIED:20200207T091017Z
UID:4052-1583953200-1583960400@aurorahighlands.org
SUMMARY:March AHCA Meeting
DESCRIPTION:7pm\, 735 18th St. \nAurora Hills Community Center \nChildcare provided! \n  \nTentative agenda: \n\nPresentation from County on work planned for 31st Steet Water Treatment Plant parking lot\nFeedback from our first workshop on housing affordability\nPresentation of the County’s Missing Middle Housing Study\nDiscussion with County Board Member Katie Cristol\nPresentation by AHCA Ives Park working group on proposed volunteer enhancements
URL:https://aurorahighlands.org/event/march-ahca-meeting-2/
LOCATION:Aurora Hills Community Center\, 735 18th Street South\, Arlington\, VA\, 22202\, United States
CATEGORIES:Membership Meeting,Monthly Events
END:VEVENT
BEGIN:VEVENT
DTSTART;TZID=America/New_York:20190403T190000
DTEND;TZID=America/New_York:20190403T210000
DTSTAMP:20260423T151026
CREATED:20190321T071021Z
LAST-MODIFIED:20190321T071021Z
UID:3553-1554318000-1554325200@aurorahighlands.org
SUMMARY:Crystal City Civic Association April Meeting
DESCRIPTION:CCCA has invited Aurora Highlands residents to the April 3rd meeting. \nAn Amazon representative will share Amazon’s plans to be a “good neighbor” to our 22202 residents. Come welcome them and ask questions.\n\nCCCA General Meeting\nWestin Hotel\n\n1800 Jefferson Davis Highway\n\nApril 3\, 7:00-9 pm\n\n\nThis meeting is limited to Crystal City\, Aurora Highlands/Pentagon City\, and Arlington Ridge residents.
URL:https://aurorahighlands.org/event/crystal-city-civic-association-april-meeting/
LOCATION:Westin Hotel\, 1800 Richmond Highway\, Arlington\, 22202\, United States
CATEGORIES:Membership Meeting,Monthly Events
END:VEVENT
BEGIN:VEVENT
DTSTART;TZID=America/New_York:20171213T183000
DTEND;TZID=America/New_York:20171213T203000
DTSTAMP:20260423T151026
CREATED:20170102T182128Z
LAST-MODIFIED:20171206T161943Z
UID:1711-1513189800-1513197000@aurorahighlands.org
SUMMARY:End-Of-Year Community Social
DESCRIPTION:Join in the Fun! \nThe End-Of-Year Community Social will be at the \nPentagon Row Skating Rink \n \n\nFederal Realty has allowed us to use the rear kiosk\, so we have an enclosed\, weather-protected space to gather. \nFood Provided generously provided by \nNando’s Peri-Peri and A Deli \n\n\n\n\n\n\n\n\n\nEvent begins at 6:30pm. \nSee you there!
URL:https://aurorahighlands.org/event/december-2017-ahca-meeting/
LOCATION:Pentagon Row\, 1201 S Joyce St\, Arlington\, VA\, 22202\, United States
CATEGORIES:Membership Meeting,Monthly Events
END:VEVENT
BEGIN:VEVENT
DTSTART;TZID=America/New_York:20171108T190000
DTEND;TZID=America/New_York:20171108T210000
DTSTAMP:20260423T151026
CREATED:20170102T182055Z
LAST-MODIFIED:20170102T182055Z
UID:1709-1510167600-1510174800@aurorahighlands.org
SUMMARY:November 2017 AHCA Meeting
DESCRIPTION:Placeholder for AHCA monthly meeting. \nSee the current AHCA newsletter for the agenda. \nCome early for refreshments and socializing! Doors open at 6:30.
URL:https://aurorahighlands.org/event/november-2017-ahca-meeting/
LOCATION:Aurora Hills Community Center\, 735 18th Street South\, Arlington\, VA\, 22202\, United States
CATEGORIES:Membership Meeting,Monthly Events
END:VEVENT
BEGIN:VEVENT
DTSTART;TZID=America/New_York:20171011T190000
DTEND;TZID=America/New_York:20171011T210000
DTSTAMP:20260423T151026
CREATED:20170102T182013Z
LAST-MODIFIED:20170102T182013Z
UID:1707-1507748400-1507755600@aurorahighlands.org
SUMMARY:October 2017 AHCA Meeting
DESCRIPTION:Placeholder for AHCA monthly meeting. \nSee the current AHCA newsletter for the agenda. \nCome early for refreshments and socializing! Doors open at 6:30.
URL:https://aurorahighlands.org/event/october-2017-ahca-meeting/
LOCATION:Aurora Hills Community Center\, 735 18th Street South\, Arlington\, VA\, 22202\, United States
CATEGORIES:Membership Meeting,Monthly Events
END:VEVENT
BEGIN:VEVENT
DTSTART;TZID=America/New_York:20170913T190000
DTEND;TZID=America/New_York:20170913T210000
DTSTAMP:20260423T151026
CREATED:20170102T181937Z
LAST-MODIFIED:20170102T181937Z
UID:1705-1505329200-1505336400@aurorahighlands.org
SUMMARY:September 2017 AHCA Meeting
DESCRIPTION:Placeholder for AHCA monthly meeting. \nSee the current AHCA newsletter for the agenda. \nCome early for refreshments and socializing! Doors open at 6:30.
URL:https://aurorahighlands.org/event/september-2017-ahca-meeting/
LOCATION:Aurora Hills Community Center\, 735 18th Street South\, Arlington\, VA\, 22202\, United States
CATEGORIES:Membership Meeting,Monthly Events
END:VEVENT
BEGIN:VEVENT
DTSTART;TZID=America/New_York:20170614T190000
DTEND;TZID=America/New_York:20170614T210000
DTSTAMP:20260423T151026
CREATED:20170102T181810Z
LAST-MODIFIED:20170606T155035Z
UID:1701-1497466800-1497474000@aurorahighlands.org
SUMMARY:AHCA JUNE MEETING
DESCRIPTION:Come early for refreshments and socializing! Doors open at 6:30. \nAgenda: \n\nNelly Custis Park Planning. The Nelly Custis Design Working Group begins its efforts on June 7.  A design should be completed late summer or early fall with the hope to bring it to the Civic Association for approval later this fall.  The timeline will be posted on the project’s web site in the near future. Visit https://projects.arlingtonva.us/projects/nelly-custis-park/for updates.\nWater Pollution Control Plant. A consultant for the Water Pollution Control Plant will talk about the master plan for dealing with solids at the plant. County staff have identified four options\, from simply upgrading the current process to building a digester to generate biogas to power the plant or perhaps as fuel for buses. Although staff believe emissions from biogas combustion would be minimal\, burning of biogas at the plant would represent a continuous point source of emissions affecting air quality in the immediate area. However\, the results of an air quality modeling study will not be known until after the master plan is finalized.A “regional solution” involves trucking biosolids to the nearby Blue Plains plant in DC. This could reduce initial capital investment and point sources of emissions. Staff is investigating this solution\, but it is currently not being considered as an option in the master plan.In all\, there appears to be a desire to work collaboratively with the community\, but the neighborhood will have to stay engaged and push for the final master plan to include responses to the air quality study and regional solution.\nPlanning for the Boo-Ha-Ha Festival. Planning is well underway for the fall festival held in October each year. Jenny Sullivan will update us on plans to increase sponsorship\, provide a mechanism for neighbors to donate\, recruit volunteers and performers\, etc.
URL:https://aurorahighlands.org/event/june-2017-ahca-meeting/
LOCATION:Aurora Hills Community Center\, 735 18th Street South\, Arlington\, VA\, 22202\, United States
CATEGORIES:Membership Meeting,Monthly Events
END:VEVENT
BEGIN:VEVENT
DTSTART;TZID=America/New_York:20170510T190000
DTEND;TZID=America/New_York:20170510T210000
DTSTAMP:20260423T151026
CREATED:20170102T181736Z
LAST-MODIFIED:20170509T180340Z
UID:1699-1494442800-1494450000@aurorahighlands.org
SUMMARY:AHCA MAY MEETING
DESCRIPTION:All Aurora Highlands residents are invited and encouraged to come to our monthly meetings where we meet neighbors\, discuss topics of interest\, and share information. \nCome Join Us In Our Newly Renovated Space! \n  \nMeeting Agenda \nUpdate on Nelly Custis Planning. David Litman\, AHCA’s rep for Neighborhood Conservation\, will give us an update. If you are interested in participating in the design working group and haven’t already volunteered\, please come to the meeting. \nSouth Park Planning. Department of Parks & Rec staff will give a short overview of the planning for South Park\, a property adjacent to Four Mile Run\, between Route 1 and Potomac Avenue. We will hear about opportunities for the public to weigh in on a final concept plan. \nAlfonso Lopez\, three-term Delegate to the Virginia House of Representatives for the 49th District\, will come talk about his legislative priorities and answer your questions. Possible topics: airport noise\, name changes for Jefferson Davis Highway\, the defunct Dominion site at 18th and Ives\, transportation and Metro\, plans for encouraging business growth\, impact of I-395 express lanes. \nTraffic study of S. Eads and S. Fern. Transportation engineer Dan Nabors will come talk about the County’s traffic study of these streets\, preliminary results\, and possible mitigation measures.
URL:https://aurorahighlands.org/event/may-2017-ahca-meeting/
LOCATION:Aurora Hills Community Center\, 735 18th Street South\, Arlington\, VA\, 22202\, United States
CATEGORIES:Membership Meeting,Monthly Events
ATTACH;FMTTYPE=image/jpeg:https://aurorahighlands.org/wp-content/uploads/10301531_987537647997756_6217820665190147813_n.jpg
END:VEVENT
BEGIN:VEVENT
DTSTART;TZID=America/New_York:20170412T190000
DTEND;TZID=America/New_York:20170412T210000
DTSTAMP:20260423T151026
CREATED:20170102T181706Z
LAST-MODIFIED:20170409T180420Z
UID:1696-1492023600-1492030800@aurorahighlands.org
SUMMARY:AHCA APRIL MEETING
DESCRIPTION:Join us for our next monthly meeting\, Wednesday\, April 12 at 7 p.m\, Aurora Hills Library\, Back Room. \nRefreshments provided by Nando’s PERi-PERi at 6:45! \nCome early for refreshments and socializing! Doors open at 6:30. \nMeeting Agenda \n\nSin & Saint. This new neighborhood establishment\, in the former Grill Kabob location at 23rd and Eads\, has applied for a use permit for a Deejay and dancing on Fridays and Saturdays. The applicant and County staff will be at the meeting to discuss the application and answer questions.\nVirginia Highlands Park Renovation. Arlington’s Capital Improvement Plan included funding to begin public outreach in anticipation of west-side park renovations (everything west of the soccer fields). Parks & Rec staff will be at our meeting to talk about the best way to engage the community in the redesign process (funding is not yet available for the design). It was only a year ago that the newly renovated east side reopened after a frustrating public engagement process that left many feeling that community input had been disregarded. Please come and let DPR know how you feel about the park and how you want them to get public input.\nChristian Dorsey. One of the two newest members of the County Board\, Mr. Dorsey will be at the meeting to talk about his priorities\, hear about yours\, and listen to the DPR’s presentation on Virginia Highland Park. Come with your questions.
URL:https://aurorahighlands.org/event/april-2017-ahca-meeting/
LOCATION:Aurora Hills Community Center\, 735 18th Street South\, Arlington\, VA\, 22202\, United States
CATEGORIES:Membership Meeting,Monthly Events
ATTACH;FMTTYPE=image/jpeg:https://aurorahighlands.org/wp-content/uploads/10301531_987537647997756_6217820665190147813_n.jpg
END:VEVENT
BEGIN:VEVENT
DTSTART;TZID=America/New_York:20170308T190000
DTEND;TZID=America/New_York:20170308T210000
DTSTAMP:20260423T151026
CREATED:20170102T181633Z
LAST-MODIFIED:20170301T155108Z
UID:1694-1488999600-1489006800@aurorahighlands.org
SUMMARY:March 2017 AHCA Meeting
DESCRIPTION:See the AHCA March 2017 newsletter for details about the agenda. \nCome early for refreshments and socializing! Doors open at 6:30.
URL:https://aurorahighlands.org/event/march-2017-ahca-meeting/
LOCATION:Aurora Hills Community Center\, 735 18th Street South\, Arlington\, VA\, 22202\, United States
CATEGORIES:Membership Meeting,Monthly Events
END:VEVENT
BEGIN:VEVENT
DTSTART;TZID=America/New_York:20161214T180000
DTEND;TZID=America/New_York:20161214T200000
DTSTAMP:20260423T151026
CREATED:20160117T113913Z
LAST-MODIFIED:20161205T201850Z
UID:883-1481738400-1481745600@aurorahighlands.org
SUMMARY:December AHCA Social at the Skating Rink
DESCRIPTION:In lieu of our December meeting and our traditional potluck\, we’ll be holding our Dec. social at the Pentagon Row skating rink: Wednesday\, Dec. 14\, 6-8 pm. \nBring the kids\, Come share a drink and snacks with neighbors and learn about the many interesting things coming up for the neighborhood in the new year. We’ll also have AHCA membership forms for folks who want to join or renew their memberships. \nWe don’t have a strict RSVP but we’ll be ordering some finger food from nearby restaurants. so we’d like to get a sense of how many folks will attend. Please sign up on the Events calendar on Nextdoor or email president@aurorahighlands.org.
URL:https://aurorahighlands.org/event/december-ahca-meeting-2/
LOCATION:Pentagon Row\, 1201 S Joyce St\, Arlington\, VA\, 22202\, United States
CATEGORIES:Membership Meeting,Monthly Events,Yearly Events
END:VEVENT
BEGIN:VEVENT
DTSTART;TZID=America/New_York:20161109T190000
DTEND;TZID=America/New_York:20161109T210000
DTSTAMP:20260423T151026
CREATED:20160117T113838Z
LAST-MODIFIED:20160117T113838Z
UID:882-1478718000-1478725200@aurorahighlands.org
SUMMARY:November AHCA Meeting
DESCRIPTION:Placeholder for AHCA monthly meeting. \nThis meeting notice will be updated prior to the event with an agenda. \nCome early for refreshments and socializing! Doors open at 6:30.
URL:https://aurorahighlands.org/event/november-ahca-meeting-2/
LOCATION:Aurora Hills Community Center\, 735 18th Street South\, Arlington\, VA\, 22202\, United States
CATEGORIES:Membership Meeting,Monthly Events,Yearly Events
END:VEVENT
BEGIN:VEVENT
DTSTART;TZID=America/New_York:20161012T190000
DTEND;TZID=America/New_York:20161012T210000
DTSTAMP:20260423T151026
CREATED:20160117T113757Z
LAST-MODIFIED:20160117T113802Z
UID:881-1476298800-1476306000@aurorahighlands.org
SUMMARY:October AHCA Meeting
DESCRIPTION:Placeholder for AHCA monthly meeting. \nThis meeting notice will be updated prior to the event with an agenda. \nCome early for refreshments and socializing! Doors open at 6:30.
URL:https://aurorahighlands.org/event/october-ahca-meeting-2/
LOCATION:Aurora Hills Community Center\, 735 18th Street South\, Arlington\, VA\, 22202\, United States
CATEGORIES:Membership Meeting,Monthly Events,Yearly Events
END:VEVENT
BEGIN:VEVENT
DTSTART;TZID=America/New_York:20160914T190000
DTEND;TZID=America/New_York:20160914T210000
DTSTAMP:20260423T151026
CREATED:20160117T113724Z
LAST-MODIFIED:20160117T113724Z
UID:880-1473879600-1473886800@aurorahighlands.org
SUMMARY:September AHCA Meeting
DESCRIPTION:Placeholder for AHCA monthly meeting. \nThis meeting notice will be updated prior to the event with an agenda. \nCome early for refreshments and socializing! Doors open at 6:30.
URL:https://aurorahighlands.org/event/september-ahca-meeting-2/
LOCATION:Aurora Hills Community Center\, 735 18th Street South\, Arlington\, VA\, 22202\, United States
CATEGORIES:Membership Meeting,Monthly Events,Yearly Events
END:VEVENT
BEGIN:VEVENT
DTSTART;TZID=America/New_York:20160810T190000
DTEND;TZID=America/New_York:20160810T210000
DTSTAMP:20260423T151026
CREATED:20160117T113650Z
LAST-MODIFIED:20160712T011819Z
UID:879-1470855600-1470862800@aurorahighlands.org
SUMMARY:[CANCELLED] August AHCA Meeting
DESCRIPTION:The AHCA August meeting has been cancelled. \nThis continues the tradition in past years of skipping August since many residents\, officers\, and county volunteers are on vacation. \nWe look forward to seeing everyone in September! \n 
URL:https://aurorahighlands.org/event/august-ahca-meeting/
LOCATION:Aurora Hills Community Center\, 735 18th Street South\, Arlington\, VA\, 22202\, United States
CATEGORIES:Membership Meeting,Monthly Events,Yearly Events
END:VEVENT
BEGIN:VEVENT
DTSTART;TZID=America/New_York:20160713T190000
DTEND;TZID=America/New_York:20160713T210000
DTSTAMP:20260423T151026
CREATED:20160117T113530Z
LAST-MODIFIED:20160712T012005Z
UID:878-1468436400-1468443600@aurorahighlands.org
SUMMARY:July AHCA Meeting
DESCRIPTION:See the July Newsletter for details on the meeting agenda: \nhttp://aurorahighlands.org/news/july-2016-newsletter/ \nCome early for refreshments and socializing! Doors open at 6:30.
URL:https://aurorahighlands.org/event/july-ahca-meeting/
LOCATION:Aurora Hills Community Center\, 735 18th Street South\, Arlington\, VA\, 22202\, United States
CATEGORIES:Membership Meeting,Monthly Events,Yearly Events
END:VEVENT
BEGIN:VEVENT
DTSTART;TZID=America/New_York:20160608T190000
DTEND;TZID=America/New_York:20160608T210000
DTSTAMP:20260423T151026
CREATED:20160117T113453Z
LAST-MODIFIED:20160117T113453Z
UID:877-1465412400-1465419600@aurorahighlands.org
SUMMARY:June AHCA Meeting
DESCRIPTION:Placeholder for AHCA monthly meeting. \nThis meeting notice will be updated prior to the event with an agenda. \nCome early for refreshments and socializing! Doors open at 6:30.
URL:https://aurorahighlands.org/event/june-ahca-meeting-2/
LOCATION:Aurora Hills Community Center\, 735 18th Street South\, Arlington\, VA\, 22202\, United States
CATEGORIES:Membership Meeting,Monthly Events,Yearly Events
END:VEVENT
BEGIN:VEVENT
DTSTART;TZID=America/New_York:20160511T190000
DTEND;TZID=America/New_York:20160511T210000
DTSTAMP:20260423T151026
CREATED:20160117T113409Z
LAST-MODIFIED:20160117T113409Z
UID:876-1462993200-1463000400@aurorahighlands.org
SUMMARY:May AHCA Meeting
DESCRIPTION:Placeholder for AHCA monthly meeting. \nThis meeting notice will be updated prior to the event with an agenda. \nCome early for refreshments and socializing! Doors open at 6:30.
URL:https://aurorahighlands.org/event/may-ahca-meeting-2/
LOCATION:Aurora Hills Community Center\, 735 18th Street South\, Arlington\, VA\, 22202\, United States
CATEGORIES:Membership Meeting,Monthly Events,Yearly Events
END:VEVENT
BEGIN:VEVENT
DTSTART;TZID=America/New_York:20160413T190000
DTEND;TZID=America/New_York:20160413T210000
DTSTAMP:20260423T151026
CREATED:20160117T113332Z
LAST-MODIFIED:20160117T113332Z
UID:875-1460574000-1460581200@aurorahighlands.org
SUMMARY:April AHCA Meeting
DESCRIPTION:Placeholder for AHCA monthly meeting. \nThis meeting notice will be updated prior to the event with an agenda. \nCome early for refreshments and socializing! Doors open at 6:30.
URL:https://aurorahighlands.org/event/april-ahca-meeting-2/
LOCATION:Aurora Hills Community Center\, 735 18th Street South\, Arlington\, VA\, 22202\, United States
CATEGORIES:Membership Meeting,Monthly Events,Yearly Events
END:VEVENT
BEGIN:VEVENT
DTSTART;TZID=America/New_York:20160309T190000
DTEND;TZID=America/New_York:20160309T210000
DTSTAMP:20260423T151026
CREATED:20160117T113207Z
LAST-MODIFIED:20160309T184359Z
UID:874-1457550000-1457557200@aurorahighlands.org
SUMMARY:March AHCA Meeting
DESCRIPTION:Come early for refreshments and socializing! Doors open at 6:30 Refreshments courtesy of Whole Foods. \nMeeting Agenda \n\nIntroductions\nCommunity Updates\n\nWe had a great turnout at Siné on February 25 for the second AHCA social.\nNext AHCA social event will be at Crystal City Sports Pub\, March 30\, 7–9 P.M.\nRibbon-cutting for the east side of Virginia Highlands Park will be on March 13 at 1:00 p.m. Laura Holman has generously offered to organize the reception by the tennis courts. If you can provide some finger foods or drinks\, please arrive a little early.\n School Board Forum on 22202 will be held at Oakridge Elementary School\, March 16\, 7-9 P.M.\nCounty Board approved funding for two Neighborhood Conservation projects in our\nneighborhood. One was to fund the cost over-run of the Fern St. sidewalk project\, which has been stalled for several years. Utility work on Fern St. will begin in the spring\, followed by hardscape in the summer or early fall. The board also agreed to fund renovation at Nelly Custis Park\, though we are not expected to see anything happen on the design phase until the fall or later.\nCounty Board Chair Libby Garvey will be at our April 13 meeting.\nWhole Foods will be opening in Metropolitan Park. Representatives will be at the meeting to answer your questions about the new store.\n\n\nFor Discussion\n\nVote on $250 donation to Oakridge Elementary School for the Spring Fling festival.\nCapital Bikeshare: a representative of Capital Bikeshare will be at the meeting to discuss two proposed locations for new Bikeshare stations in our neighborhood.\nOne is at S. Hayes and 23rd St. S.\, and the other is at S. Fern and Army-Navy Drive. You can take the surveys at: http://bit.ly/1VstwJH (for the Fern St. site) and http://bit.ly/HayesBikeshareSurvey (for the Hayes St. site).\nCounty Board member John Vihstadt will talk with AHCA about issues facing our community: development\, density\, schools\, and transportation. Come with your questions.
URL:https://aurorahighlands.org/event/march-ahca-meeting/
LOCATION:Aurora Hills Community Center\, 735 18th Street South\, Arlington\, VA\, 22202\, United States
CATEGORIES:Membership Meeting,Yearly Events
END:VEVENT
END:VCALENDAR