BEGIN:VCALENDAR
VERSION:2.0
PRODID:-//Aurora Highlands Civic Association (AHCA) - ECPv6.15.14//NONSGML v1.0//EN
CALSCALE:GREGORIAN
METHOD:PUBLISH
X-WR-CALNAME:Aurora Highlands Civic Association (AHCA)
X-ORIGINAL-URL:https://aurorahighlands.org
X-WR-CALDESC:Events for Aurora Highlands Civic Association (AHCA)
REFRESH-INTERVAL;VALUE=DURATION:PT1H
X-Robots-Tag:noindex
X-PUBLISHED-TTL:PT1H
BEGIN:VTIMEZONE
TZID:America/New_York
BEGIN:DAYLIGHT
TZOFFSETFROM:-0500
TZOFFSETTO:-0400
TZNAME:EDT
DTSTART:20130310T070000
END:DAYLIGHT
BEGIN:STANDARD
TZOFFSETFROM:-0400
TZOFFSETTO:-0500
TZNAME:EST
DTSTART:20131103T060000
END:STANDARD
BEGIN:DAYLIGHT
TZOFFSETFROM:-0500
TZOFFSETTO:-0400
TZNAME:EDT
DTSTART:20140309T070000
END:DAYLIGHT
BEGIN:STANDARD
TZOFFSETFROM:-0400
TZOFFSETTO:-0500
TZNAME:EST
DTSTART:20141102T060000
END:STANDARD
BEGIN:DAYLIGHT
TZOFFSETFROM:-0500
TZOFFSETTO:-0400
TZNAME:EDT
DTSTART:20150308T070000
END:DAYLIGHT
BEGIN:STANDARD
TZOFFSETFROM:-0400
TZOFFSETTO:-0500
TZNAME:EST
DTSTART:20151101T060000
END:STANDARD
BEGIN:DAYLIGHT
TZOFFSETFROM:-0500
TZOFFSETTO:-0400
TZNAME:EDT
DTSTART:20160313T070000
END:DAYLIGHT
BEGIN:STANDARD
TZOFFSETFROM:-0400
TZOFFSETTO:-0500
TZNAME:EST
DTSTART:20161106T060000
END:STANDARD
END:VTIMEZONE
BEGIN:VEVENT
DTSTART;TZID=America/New_York:20150513T190000
DTEND;TZID=America/New_York:20150513T200000
DTSTAMP:20260424T005929
CREATED:20150118T175315Z
LAST-MODIFIED:20150118T175315Z
UID:192-1431543600-1431547200@aurorahighlands.org
SUMMARY:May AHCA Meeting
DESCRIPTION:
URL:https://aurorahighlands.org/event/may-ahca-meeting/
LOCATION:Aurora Hills Community Center\, 735 18th Street South\, Arlington\, VA\, 22202\, United States
CATEGORIES:Yearly Events
END:VEVENT
BEGIN:VEVENT
DTSTART;TZID=America/New_York:20150408T190000
DTEND;TZID=America/New_York:20150408T200000
DTSTAMP:20260424T005929
CREATED:20150118T174751Z
LAST-MODIFIED:20150118T180655Z
UID:191-1428519600-1428523200@aurorahighlands.org
SUMMARY:April AHCA Meeting
DESCRIPTION:
URL:https://aurorahighlands.org/event/april-ahca-meeting/
LOCATION:Aurora Hills Community Center\, 735 18th Street South\, Arlington\, VA\, 22202\, United States
CATEGORIES:Yearly Events
END:VEVENT
BEGIN:VEVENT
DTSTART;TZID=America/New_York:20150311T190000
DTEND;TZID=America/New_York:20150311T200000
DTSTAMP:20260424T005929
CREATED:20150118T174603Z
LAST-MODIFIED:20150118T174818Z
UID:190-1426100400-1426104000@aurorahighlands.org
SUMMARY:March AHCA Meeting
DESCRIPTION:
URL:https://aurorahighlands.org/event/ahca-meeting-mar-11-7pm/
LOCATION:Aurora Hills Community Center\, 735 18th Street South\, Arlington\, VA\, 22202\, United States
CATEGORIES:Yearly Events
END:VEVENT
BEGIN:VEVENT
DTSTART;TZID=America/New_York:20150211T190000
DTEND;TZID=America/New_York:20150211T200000
DTSTAMP:20260424T005929
CREATED:20150118T140151Z
LAST-MODIFIED:20150118T174949Z
UID:180-1423681200-1423684800@aurorahighlands.org
SUMMARY:February AHCA Meeting
DESCRIPTION:The AHCA monthly meeting will be held at the Aurora Highlands Community Center\, 735 18th Street South\, Arlington\, VA 22202 at 7pm. \nAgenda TBD
URL:https://aurorahighlands.org/event/ahca-meeting-feb-11-7pm/
LOCATION:Aurora Hills Community Center\, 735 18th Street South\, Arlington\, VA\, 22202\, United States
CATEGORIES:Yearly Events
END:VEVENT
BEGIN:VEVENT
DTSTART;TZID=America/New_York:20150114T190000
DTEND;TZID=America/New_York:20150114T200000
DTSTAMP:20260424T005929
CREATED:20150108T041107Z
LAST-MODIFIED:20150118T175029Z
UID:175-1421262000-1421265600@aurorahighlands.org
SUMMARY:January AHCA Meeting
DESCRIPTION:Monthly Civic Association Meeting
URL:https://aurorahighlands.org/event/aurora-highlands-civic-association-meeting/
LOCATION:Aurora Hills Community Center\, 735 18th Street South\, Arlington\, VA\, 22202\, United States
CATEGORIES:Yearly Events
END:VEVENT
BEGIN:VEVENT
DTSTART;TZID=America/New_York:20141225T080000
DTEND;TZID=America/New_York:20141225T170000
DTSTAMP:20260424T005929
CREATED:20141031T022241Z
LAST-MODIFIED:20141031T022307Z
UID:84-1419494400-1419526800@aurorahighlands.org
SUMMARY:Christmas Event
DESCRIPTION:
URL:https://aurorahighlands.org/event/christmas-event/
LOCATION:VA
CATEGORIES:Yearly Events
END:VEVENT
BEGIN:VEVENT
DTSTART;TZID=America/New_York:20141026T080000
DTEND;TZID=America/New_York:20141026T170000
DTSTAMP:20260424T005929
CREATED:20141026T201808Z
LAST-MODIFIED:20141026T202206Z
UID:24-1414310400-1414342800@aurorahighlands.org
SUMMARY:Main Event
DESCRIPTION:Coming soon!
URL:https://aurorahighlands.org/event/main-event/
LOCATION:VA
CATEGORIES:Yearly Events
END:VEVENT
BEGIN:VEVENT
DTSTART;VALUE=DATE:20140622
DTEND;VALUE=DATE:20140623
DTSTAMP:20260424T005929
CREATED:20141031T022036Z
LAST-MODIFIED:20141031T022317Z
UID:83-1403395200-1403481599@aurorahighlands.org
SUMMARY:June Event
DESCRIPTION:Coming soon
URL:https://aurorahighlands.org/event/june-event/
LOCATION:VA
CATEGORIES:Yearly Events
END:VEVENT
END:VCALENDAR