BEGIN:VCALENDAR
VERSION:2.0
PRODID:-//Aurora Highlands Civic Association (AHCA) - ECPv6.15.14//NONSGML v1.0//EN
CALSCALE:GREGORIAN
METHOD:PUBLISH
X-WR-CALNAME:Aurora Highlands Civic Association (AHCA)
X-ORIGINAL-URL:https://aurorahighlands.org
X-WR-CALDESC:Events for Aurora Highlands Civic Association (AHCA)
REFRESH-INTERVAL;VALUE=DURATION:PT1H
X-Robots-Tag:noindex
X-PUBLISHED-TTL:PT1H
BEGIN:VTIMEZONE
TZID:America/New_York
BEGIN:DAYLIGHT
TZOFFSETFROM:-0500
TZOFFSETTO:-0400
TZNAME:EDT
DTSTART:20200308T070000
END:DAYLIGHT
BEGIN:STANDARD
TZOFFSETFROM:-0400
TZOFFSETTO:-0500
TZNAME:EST
DTSTART:20201101T060000
END:STANDARD
BEGIN:DAYLIGHT
TZOFFSETFROM:-0500
TZOFFSETTO:-0400
TZNAME:EDT
DTSTART:20210314T070000
END:DAYLIGHT
BEGIN:STANDARD
TZOFFSETFROM:-0400
TZOFFSETTO:-0500
TZNAME:EST
DTSTART:20211107T060000
END:STANDARD
BEGIN:DAYLIGHT
TZOFFSETFROM:-0500
TZOFFSETTO:-0400
TZNAME:EDT
DTSTART:20220313T070000
END:DAYLIGHT
BEGIN:STANDARD
TZOFFSETFROM:-0400
TZOFFSETTO:-0500
TZNAME:EST
DTSTART:20221106T060000
END:STANDARD
END:VTIMEZONE
BEGIN:VEVENT
DTSTART;TZID=America/New_York:20211028T160000
DTEND;TZID=America/New_York:20211028T170000
DTSTAMP:20260424T074522
CREATED:20211018T231903Z
LAST-MODIFIED:20211018T231903Z
UID:5898-1635436800-1635440400@aurorahighlands.org
SUMMARY:PenPlace walking tour
DESCRIPTION:Thursday\, October 28\, 4 p.m.:  Join an in-person walking tour of the PenPlace site and get a sense of the plans for Amazon HQ2. \nMeet outside the Bartlett lobby\, 520 12th St. S. \nhttps://www.arlingtonva.us/Government/Projects/Project-Types/Site-Plan/Pen-Place-2021 \n  \n 
URL:https://aurorahighlands.org/event/penplace-walking-tour/
END:VEVENT
BEGIN:VEVENT
DTSTART;TZID=America/New_York:20211023T090000
DTEND;TZID=America/New_York:20211023T110000
DTSTAMP:20260424T074522
CREATED:20211020T130031Z
LAST-MODIFIED:20211020T130031Z
UID:5906-1634979600-1634986800@aurorahighlands.org
SUMMARY:Fort Scott Invasives cleanup
DESCRIPTION:Happy autumn! Finally\, some cool weather for our time in the woods.  Please join us this Saturday for our monthly invasive plant removal event at Fort Scott Park.\n\nWhere: Fort Scott Park\, 2800 Fort Scott Drive\, Arlington\, VA 22202  Meet in the parking lot area\, or if you are late\, look for our large volunteer sign which will be visible from the parking lot.\n\nWhen: Saturday\, October 23\, 2021 from 9am to 11am\n\nBring:\n\n\nAppropriate clothing\, including covered\, sturdy footwear\, long pants and long sleeves.\nDrinking water.\nGarden gloves\, if you have them.  If not\, we will provide them.\nTools if you have them: weeders\, clippers\, loppers\, small saws.  No worries if you don’t have tools — we will have extras on hand.\n\nQuestions? Contact Terri McPalmer at terri.mcpalmer@gmail.com\n\n\nReady to commit? Sign up here: Remove Invasive Plants: Ft. Scott (signupgenius.com) Signing up is not absolutely necessary\, so just show up if you have the time.  Unable to attend this month? This is a recurring event every 4th Saturday of the month so maybe you can join us at our next event on November 27.\n\n\n\n\n\nThis is an Arlington County RiP and ARMN approved project.
URL:https://aurorahighlands.org/event/fort-scott-invasives-cleanup/
END:VEVENT
BEGIN:VEVENT
DTSTART;VALUE=DATE:20211022
DTEND;VALUE=DATE:20211023
DTSTAMP:20260424T074522
CREATED:20211018T231729Z
LAST-MODIFIED:20211018T231729Z
UID:5896-1634860800-1634947199@aurorahighlands.org
SUMMARY:Last day to request Mailed Ballot
DESCRIPTION:Friday\, October 22\nLast day to request that a ballot be mailed to you!  See voting info here:  https://vote.arlingtonva.us/Home  Note that scanner software has been updated and ballot format changed a bit – you MUST NOW COMPLETELY FILL IN THE OVAL for your choices!
URL:https://aurorahighlands.org/event/last-day-to-request-mailed-ballot/
END:VEVENT
BEGIN:VEVENT
DTSTART;TZID=America/New_York:20211020T190000
DTEND;TZID=America/New_York:20211020T210000
DTSTAMP:20260424T074522
CREATED:20211018T231559Z
LAST-MODIFIED:20211018T231559Z
UID:5894-1634756400-1634763600@aurorahighlands.org
SUMMARY:Eads Residential Special GLUP Meeting
DESCRIPTION:Attend the Eads Residential Special GLUP Meeting 7PM  (make sure you study the new CCBHS recommendations too)\nEverything you need to know is available through this link:\nhttps://www.arlingtonva.us/Government/Projects/Plans-Studies/General-Land-Use-Plan/Studies/South-Eads-Residential
URL:https://aurorahighlands.org/event/eads-residential-special-glup-meeting/
END:VEVENT
BEGIN:VEVENT
DTSTART;TZID=America/New_York:20211018T190000
DTEND;TZID=America/New_York:20211018T210000
DTSTAMP:20260424T074522
CREATED:20211018T232520Z
LAST-MODIFIED:20211018T232520Z
UID:5902-1634583600-1634590800@aurorahighlands.org
SUMMARY:Pentagon City Planning Study - LRPC/Zoning meeting
DESCRIPTION:Attend the LRPC/Zoning meeting tonight on the Pentagon City Planning Study 7PM.  Meeting Info is here:  https://www.arlingtonva.us/Government/Commissions-and-Advisory-Groups/Shared-Content/Commissions-PC-Hearings-Meetings/LRPC-ZOCO-Pentagon-City-Oct-2021\nMeeting materials are here:  https://www.arlingtonva.us/Government/Commissions-and-Advisory-Groups/Planning-Commission/Long-Range-Planning-Committee
URL:https://aurorahighlands.org/event/pentagon-city-planning-study-lrpc-zoning-meeting/
END:VEVENT
BEGIN:VEVENT
DTSTART;VALUE=DATE:20211018
DTEND;VALUE=DATE:20211019
DTSTAMP:20260424T074522
CREATED:20211018T232600Z
LAST-MODIFIED:20211018T232600Z
UID:5904-1634515200-1634601599@aurorahighlands.org
SUMMARY:Crystal City Building Heights Study - Comments Due
DESCRIPTION:Send your comments on the Crystal City Building Heights Study: Check out the new study materials for the Crystal City Building Heights Study and provide feedback by emailing Matt Mattauszek:\n\n\nOnline Engagement Session Presentation Recording | Slides (for CCBHS)
URL:https://aurorahighlands.org/event/crystal-city-building-heights-study-comments-due/
END:VEVENT
BEGIN:VEVENT
DTSTART;TZID=America/New_York:20211013T190000
DTEND;TZID=America/New_York:20211013T210000
DTSTAMP:20260424T074522
CREATED:20210809T202305Z
LAST-MODIFIED:20211008T204126Z
UID:5728-1634151600-1634158800@aurorahighlands.org
SUMMARY:AHCA October Meeting
DESCRIPTION:>> Register Now for October AHCA Meeting <<< \n\nAgenda \n\nDillon’s Rule (30m)\nAsk many people why getting things done in Arlington is hard\, and you’ll hear “Dillon’s Rule.” Hear Rich Schragger\, Professor of Law at UVA\, explain the history of the development of Home Rule and Dillon’s Rule and what it means for a County like Arlington.\nCounty Food Scrap Program & Recycling (30m)\nAdam Riedel from the Arlington County Department of Environmental Services will talk about the new food scrap program just launched in September. Find out how it works and get answers to your questions about the program and recycling in general.\nVirginia Hospital Center Foundation grassroots initiatives (15m)\nFoundation President Tony Burchard will talk about several initiatives that you may be interested in supporting: For Our Neighbors Fund\, Healthy Meals for our Healthcare Heroes\, and Growth of the VHC Physicians Group in our neighborhoods.\nBylaw Changes (15m)\nThe changes proposed in September to adjust membership eligibility\, quorum\, and meeting notification requirements will be voted upon.\nApproval of tax reimbursement (5m)\nReimburse past treasurer Gail Fleming $242 for tax payments she incurred associated with the AHCA PayPal account.\nOfficer Nominations (10m)\nNominations for 2021 officer positions\n\nMinutes for past meetings have not been approved for a while. If you have comments or corrections\, please send them to officers@aurorahighlands.org. We’ll have a vote to approve these outstanding draft minutes: \n\nApril\nMay\nJune\nSeptember\n\n  \nREGISTRATION IS REQUIRED TO JOIN THE ZOOM MEETING. Pre-registration is not required\, but if you do\, you can easily add it to your calendar and avoid delays joining when the meeting starts. \n\n>> Register Now for October AHCA Meeting <<< \n\nIf you have an issue that you feel needs to be raised\, please contact an officer or email info@aurorahighlands.org.
URL:https://aurorahighlands.org/event/oct2021/
END:VEVENT
BEGIN:VEVENT
DTSTART;TZID=America/New_York:20210918T183000
DTEND;TZID=America/New_York:20210918T220000
DTSTAMP:20260424T074522
CREATED:20210809T204038Z
LAST-MODIFIED:20210813T164953Z
UID:5740-1631989800-1632002400@aurorahighlands.org
SUMMARY:Melwood Community Night
DESCRIPTION:Join your neighbors at Melwood on 23rd street for a fun\, family friendly evening filled with food trucks\, popcorn\, ice cream\, and more! \n \nRegistration is required: \nhttp://melwood.org/event/community-night \n 
URL:https://aurorahighlands.org/event/melwood-community-night/
LOCATION:Melwood\, 750 23rd Street South\, Arlington\, VA\, 22202\, United States
END:VEVENT
BEGIN:VEVENT
DTSTART;TZID=America/New_York:20210908T190000
DTEND;TZID=America/New_York:20210908T210000
DTSTAMP:20260424T074522
CREATED:20210809T202220Z
LAST-MODIFIED:20210908T173445Z
UID:5726-1631127600-1631134800@aurorahighlands.org
SUMMARY:AHCA September Meeting
DESCRIPTION:>> Register Now for September AHCA Meeting <<< \n\nAgenda \n\n523 24th St S Garrison Residence (20-30m)\nResident Les Garrison will share plans for redeveloping a grandfathered two-family home that is required to go through the County’s review process.\nOutlier Co-Living Building Plans (30-60m)\nThe developer will share their vision for a co-living mid-rise building on Eads St.\, along with the additional height and zoning changes they are seeking.\nProposed Bylaws Amendments (15-30m)\nSeveral changes will be proposed to clarify membership eligibility\, streamline voting at virtual meetings\, better ensuring topics are publicly advertised before being voted on\, and potentially increasing quorum requirements. Any changes would not be voted on until October.\n\nSee the September Newsletter for additional information. \nREGISTRATION IS REQUIRED TO JOIN THE ZOOM MEETING. Pre-registration is not required\, but if you do\, you can easily add it to your calendar and avoid delays joining when the meeting starts. \n\n>> Register Now for September AHCA Meeting <<< \n\nIf you have an issue that you feel needs to be raised\, please contact the officers at officers@aurorahighlands.org.
URL:https://aurorahighlands.org/event/sep2021/
END:VEVENT
BEGIN:VEVENT
DTSTART;TZID=America/New_York:20210821T100000
DTEND;TZID=America/New_York:20210821T113000
DTSTAMP:20260424T074522
CREATED:20210810T221822Z
LAST-MODIFIED:20210810T221822Z
UID:5763-1629540000-1629545400@aurorahighlands.org
SUMMARY:Outdoor Zumba 1 year celebration
DESCRIPTION:Join us as we celebrate one year of outdoor Zumba at the park with a fun Master Class! This special event will be lead by 4 great local instructors: Ana\, Christine\, Jessica and Natalia. \nZumba is a fitness program that combines Latin and international music with dance moves\, it incorporates interval training — alternating fast and slow rhythms — to help improve cardiovascular fitness. \nNo prior experience is required. Join your neighbors to enjoy the fresh air while getting in a great workout. This event is organized and led by a neighborhood volunteer\, tips are highly encouraged. \nMeet at Virginia Highlands Park Field #3 (“Hearts Field”) at the corner of Joyce & 15th.
URL:https://aurorahighlands.org/event/outdoor-zumba-1-year-celebration/
LOCATION:Virginia Highlands Park West-side fields\, 1535 S Joyce St\, Arlington\, VA\, 22202\, United States
END:VEVENT
BEGIN:VEVENT
DTSTART;TZID=America/New_York:20210724T183000
DTEND;TZID=America/New_York:20210724T200000
DTSTAMP:20260424T074522
CREATED:20210605T161034Z
LAST-MODIFIED:20210605T161034Z
UID:5592-1627151400-1627156800@aurorahighlands.org
SUMMARY:Live Music in the Park Saturdays
DESCRIPTION:Live Music in the Park Saturdays\, 6:30-8pm\, June 5th- July 24th. Hearts field\, Virginia Highlands Park. Order your picnic from your fav restaurant! Free! But\, please consider a $5+ tip for the musicians. Thank you musicians and volunteers! aurorahighlands.org/music
URL:https://aurorahighlands.org/event/live-music-in-the-park-saturdays-7/
END:VEVENT
BEGIN:VEVENT
DTSTART;TZID=America/New_York:20210717T183000
DTEND;TZID=America/New_York:20210717T200000
DTSTAMP:20260424T074522
CREATED:20210605T161002Z
LAST-MODIFIED:20210712T162651Z
UID:5590-1626546600-1626552000@aurorahighlands.org
SUMMARY:Live Music in the Park Saturdays
DESCRIPTION:Live Music in the Park Saturdays\, 6:30-8pm\, June 5th- July 24th. Hearts field\, Virginia Highlands Park. Order your picnic from your fav restaurant! Free! But\, please consider a $5+ tip for the musicians. Thank you musicians and volunteers! aurorahighlands.org/music
URL:https://aurorahighlands.org/event/live-music-in-the-park-saturdays-6/
END:VEVENT
BEGIN:VEVENT
DTSTART;TZID=America/New_York:20210714T190000
DTEND;TZID=America/New_York:20210714T210000
DTSTAMP:20260424T074522
CREATED:20210618T161310Z
LAST-MODIFIED:20210618T161310Z
UID:5648-1626289200-1626296400@aurorahighlands.org
SUMMARY:AHCA July Meeting
DESCRIPTION:July 14th @ 7:00 pm – 9:00 pm\n\n\n\nJuly Agenda TBD \nSend items to officers@aurorahighlands.org for consideration
URL:https://aurorahighlands.org/event/ahca-july-meeting/
END:VEVENT
BEGIN:VEVENT
DTSTART;TZID=America/New_York:20210710T183000
DTEND;TZID=America/New_York:20210710T200000
DTSTAMP:20260424T074522
CREATED:20210605T160936Z
LAST-MODIFIED:20210605T160936Z
UID:5588-1625941800-1625947200@aurorahighlands.org
SUMMARY:Live Music in the Park Saturdays
DESCRIPTION:Live Music in the Park Saturdays\, 6:30-8pm\, June 5th- July 24th. Hearts field\, Virginia Highlands Park. Order your picnic from your fav restaurant! Free! But\, please consider a $5+ tip for the musicians. Thank you musicians and volunteers! aurorahighlands.org/music
URL:https://aurorahighlands.org/event/live-music-in-the-park-saturdays-5/
END:VEVENT
BEGIN:VEVENT
DTSTART;TZID=America/New_York:20210703T183000
DTEND;TZID=America/New_York:20210703T200000
DTSTAMP:20260424T074522
CREATED:20210605T160901Z
LAST-MODIFIED:20210605T160901Z
UID:5586-1625337000-1625342400@aurorahighlands.org
SUMMARY:Live Music in the Park Saturdays
DESCRIPTION:Live Music in the Park Saturdays\, 6:30-8pm\, June 5th- July 24th. Hearts field\, Virginia Highlands Park. Order your picnic from your fav restaurant! Free! But\, please consider a $5+ tip for the musicians. Thank you musicians and volunteers! aurorahighlands.org/music
URL:https://aurorahighlands.org/event/live-music-in-the-park-saturdays-4/
END:VEVENT
BEGIN:VEVENT
DTSTART;TZID=America/New_York:20210626T183000
DTEND;TZID=America/New_York:20210626T200000
DTSTAMP:20260424T074522
CREATED:20210605T161404Z
LAST-MODIFIED:20210605T161404Z
UID:5596-1624732200-1624737600@aurorahighlands.org
SUMMARY:Live Music in the Park Saturdays
DESCRIPTION:Live Music in the Park Saturdays\, 6:30-8pm\, June 5th- July 24th. Hearts field\, Virginia Highlands Park. Order your picnic from your fav restaurant! Free! But\, please consider a $5+ tip for the musicians. Thank you musicians and volunteers! aurorahighlands.org/music
URL:https://aurorahighlands.org/event/live-music-in-the-park-saturdays-8/
END:VEVENT
BEGIN:VEVENT
DTSTART;TZID=America/New_York:20210626T100000
DTEND;TZID=America/New_York:20210626T230000
DTSTAMP:20260424T074522
CREATED:20210603T021514Z
LAST-MODIFIED:20210603T021514Z
UID:5569-1624701600-1624748400@aurorahighlands.org
SUMMARY:Outdoor Zumba
DESCRIPTION:Zumba is a fitness program that combines Latin and international music with dance moves\, it incorporates interval training — alternating fast and slow rhythms — to help improve cardiovascular fitness. \nNo prior experience is required. Join your neighbors to enjoy the fresh air while getting in a great workout. This event is organized and led by a neighborhood volunteer\, tips are highly encouraged. \nMeet at Virginia Highlands Park Field #3 (“Hearts Field”) at the corner of Joyce & 15th.
URL:https://aurorahighlands.org/event/outdoor-zumba-16/
END:VEVENT
BEGIN:VEVENT
DTSTART;TZID=America/New_York:20210622T190000
DTEND;TZID=America/New_York:20210622T203000
DTSTAMP:20260424T074522
CREATED:20210612T192915Z
LAST-MODIFIED:20210612T192915Z
UID:5625-1624388400-1624393800@aurorahighlands.org
SUMMARY:Community Meeting: 15th Street S. / S. Clark-Bell Realignment
DESCRIPTION:https://projects.arlingtonva.us/events/community-meeting-15th-street-s-s-clark-bell-realignment/
URL:https://aurorahighlands.org/event/community-meeting-15th-street-s-s-clark-bell-realignment/
END:VEVENT
BEGIN:VEVENT
DTSTART;TZID=America/New_York:20210619T183000
DTEND;TZID=America/New_York:20210619T200000
DTSTAMP:20260424T074522
CREATED:20210605T160826Z
LAST-MODIFIED:20210605T160826Z
UID:5584-1624127400-1624132800@aurorahighlands.org
SUMMARY:Live Music in the Park Saturdays
DESCRIPTION:Live Music in the Park Saturdays\, 6:30-8pm\, June 5th- July 24th. Hearts field\, Virginia Highlands Park. Order your picnic from your fav restaurant! Free! But\, please consider a $5+ tip for the musicians. Thank you musicians and volunteers! aurorahighlands.org/music
URL:https://aurorahighlands.org/event/live-music-in-the-park-saturdays-3/
END:VEVENT
BEGIN:VEVENT
DTSTART;TZID=America/New_York:20210619T100000
DTEND;TZID=America/New_York:20210619T110000
DTSTAMP:20260424T074522
CREATED:20210603T021431Z
LAST-MODIFIED:20210603T021431Z
UID:5567-1624096800-1624100400@aurorahighlands.org
SUMMARY:Outdoor Zumba
DESCRIPTION:Zumba is a fitness program that combines Latin and international music with dance moves\, it incorporates interval training — alternating fast and slow rhythms — to help improve cardiovascular fitness. \nNo prior experience is required. Join your neighbors to enjoy the fresh air while getting in a great workout. This event is organized and led by a neighborhood volunteer\, tips are highly encouraged. \nMeet at Virginia Highlands Park Field #3 (“Hearts Field”) at the corner of Joyce & 15th.
URL:https://aurorahighlands.org/event/outdoor-zumba-15/
END:VEVENT
BEGIN:VEVENT
DTSTART;TZID=America/New_York:20210619T080000
DTEND;TZID=America/New_York:20210619T140000
DTSTAMP:20260424T074522
CREATED:20210605T115221Z
LAST-MODIFIED:20210605T115313Z
UID:5575-1624089600-1624111200@aurorahighlands.org
SUMMARY:The Aurora Highlands Community Yard Sale Day
DESCRIPTION:Mark your calendars!  The Aurora Highlands Community Yard Sale Day will be Saturday June 19\, 2021\, from 8AM – 2PM.  Get ready for summer\, and give your items a new life instead of the trash heap!  This is a fun day to walk around the neighborhood and meet your neighbors.  Spread the word! More information here: https://www.colonneselab.org/yard-sale
URL:https://aurorahighlands.org/event/the-aurora-highlands-community-yard-sale-day/
END:VEVENT
BEGIN:VEVENT
DTSTART;TZID=America/New_York:20210616T180000
DTEND;TZID=America/New_York:20210616T200000
DTSTAMP:20260424T074522
CREATED:20210603T020616Z
LAST-MODIFIED:20210603T020616Z
UID:5559-1623866400-1623873600@aurorahighlands.org
SUMMARY:Route 1 Multimodal Improvements Study
DESCRIPTION:The Virginia Department of Transportation will be holding a virtual public information meeting on the Route 1 Multimodal Improvements Study.  This meeting will take place on  Wednesday\, June 16 from 6:30 – 8:00 p.m.  The purpose of this study is to identify enhanced multimodal connectivity and accommodations along and across Route 1 in Crystal City\, to meet the changing transportation needs of this growing urban activity center.\n\n\nPlease visit the project website at  Route 1 Multimodal Improvements Study to register to attend  this meeting. On the day of the meeting\, please remember to click on your link a few minutes early to allow time to create an account and to ensure connectivity.
URL:https://aurorahighlands.org/event/route-1-multimodal-improvements-study/
END:VEVENT
BEGIN:VEVENT
DTSTART;TZID=America/New_York:20210615T190000
DTEND;TZID=America/New_York:20210615T203000
DTSTAMP:20260424T074522
CREATED:20210612T193923Z
LAST-MODIFIED:20210612T193923Z
UID:5628-1623783600-1623789000@aurorahighlands.org
SUMMARY:Crystal City Bike Network – Virtual Community Meeting #2
DESCRIPTION:https://projects.arlingtonva.us/events/crystal-city-bike-network-virtual-community-meeting-2/
URL:https://aurorahighlands.org/event/crystal-city-bike-network-virtual-community-meeting-2/
END:VEVENT
BEGIN:VEVENT
DTSTART;TZID=America/New_York:20210612T183000
DTEND;TZID=America/New_York:20210612T200000
DTSTAMP:20260424T074522
CREATED:20210605T161219Z
LAST-MODIFIED:20210605T161219Z
UID:5594-1623522600-1623528000@aurorahighlands.org
SUMMARY:Live Music in the Park Saturdays
DESCRIPTION:Live Music in the Park Saturdays\, 6:30-8pm\, June 5th- July 24th. Hearts field\, Virginia Highlands Park. Order your picnic from your fav restaurant! Free! But\, please consider a $5+ tip for the musicians. Thank you musicians and volunteers! aurorahighlands.org/music
URL:https://aurorahighlands.org/event/live-music-in-the-park-saturdays/
END:VEVENT
BEGIN:VEVENT
DTSTART;TZID=America/New_York:20210612T100000
DTEND;TZID=America/New_York:20210612T110000
DTSTAMP:20260424T074522
CREATED:20210603T021346Z
LAST-MODIFIED:20210603T021346Z
UID:5565-1623492000-1623495600@aurorahighlands.org
SUMMARY:Outdoor Zumba
DESCRIPTION:Zumba is a fitness program that combines Latin and international music with dance moves\, it incorporates interval training — alternating fast and slow rhythms — to help improve cardiovascular fitness. \nNo prior experience is required. Join your neighbors to enjoy the fresh air while getting in a great workout. This event is organized and led by a neighborhood volunteer\, tips are highly encouraged. \nMeet at Virginia Highlands Park Field #3 (“Hearts Field”) at the corner of Joyce & 15th.
URL:https://aurorahighlands.org/event/outdoor-zumba-14/
END:VEVENT
BEGIN:VEVENT
DTSTART;TZID=America/New_York:20210609T190000
DTEND;TZID=America/New_York:20210609T210000
DTSTAMP:20260424T074522
CREATED:20210419T205409Z
LAST-MODIFIED:20210609T013604Z
UID:5488-1623265200-1623272400@aurorahighlands.org
SUMMARY:AHCA June Meeting
DESCRIPTION:June 2021 Agenda\n* General Update\n* Fern St. Traffic Calming-Rob Douglas\,\n* Route 1 Discussion and update-Pam Van Hine\n* South Irving Street Lot \nQuestions and Comments \nRegister here
URL:https://aurorahighlands.org/event/ahca-june-meeting/
LOCATION:Zoom
END:VEVENT
BEGIN:VEVENT
DTSTART;TZID=America/New_York:20210607T190000
DTEND;TZID=America/New_York:20210607T200000
DTSTAMP:20260424T074522
CREATED:20210603T020757Z
LAST-MODIFIED:20210603T020757Z
UID:5561-1623092400-1623096000@aurorahighlands.org
SUMMARY:BAC/PAC meeting
DESCRIPTION:All are welcome to attend the joint BAC/PAC meeting on Monday\, June 7\, 2021 on the Arlington County TEAMS platform. Login will be available at 6:50pm for a 7 p.m. start. The meeting will be recorded\, and the video posted to the Bicycle Advisory Committee web page as well as YouTube. \n  \nThe agenda is attached\, we look forward to seeing you. \n  \nThanks\, \nLeah Gerber & David Patton \n________________________________________________________________________________ \nMicrosoft Teams meeting \nJoin on your computer or mobile app \nClick here to join the meeting \nOr call in (audio only) \n+1 347-973-6905\,\,710784093#   United States\, New York City \nPhone Conference ID: 710 784 093# \nFind a local number | Reset PIN \nLearn More | Meeting options
URL:https://aurorahighlands.org/event/bac-pac-meeting/
END:VEVENT
BEGIN:VEVENT
DTSTART;TZID=America/New_York:20210605T183000
DTEND;TZID=America/New_York:20210605T200000
DTSTAMP:20260424T074522
CREATED:20210605T160715Z
LAST-MODIFIED:20210605T160715Z
UID:5582-1622917800-1622923200@aurorahighlands.org
SUMMARY:Live Music in the Park Saturdays
DESCRIPTION:Live Music in the Park Saturdays\, 6:30-8pm\, June 5th- July 24th. Hearts field\, Virginia Highlands Park. Order your picnic from your fav restaurant! Free! But\, please consider a $5+ tip for the musicians. Thank you musicians and volunteers! aurorahighlands.org/music
URL:https://aurorahighlands.org/event/live-music-in-the-park-saturdays-2/
END:VEVENT
BEGIN:VEVENT
DTSTART;TZID=America/New_York:20210605T103000
DTEND;TZID=America/New_York:20210605T113000
DTSTAMP:20260424T074522
CREATED:20210603T021239Z
LAST-MODIFIED:20210603T021239Z
UID:5563-1622889000-1622892600@aurorahighlands.org
SUMMARY:Outdoor Zumba
DESCRIPTION:Zumba is a fitness program that combines Latin and international music with dance moves\, it incorporates interval training — alternating fast and slow rhythms — to help improve cardiovascular fitness. \nNo prior experience is required. Join your neighbors to enjoy the fresh air while getting in a great workout. This event is organized and led by a neighborhood volunteer\, tips are highly encouraged. \nMeet at Virginia Highlands Park Field #3 (“Hearts Field”) at the corner of Joyce & 15th.
URL:https://aurorahighlands.org/event/outdoor-zumba-13/
END:VEVENT
BEGIN:VEVENT
DTSTART;TZID=America/New_York:20210524T183000
DTEND;TZID=America/New_York:20210524T193000
DTSTAMP:20260424T074522
CREATED:20210426T141943Z
LAST-MODIFIED:20210426T141943Z
UID:5507-1621881000-1621884600@aurorahighlands.org
SUMMARY:Outdoor Zumba
DESCRIPTION:Zumba is a fitness program that combines Latin and international music with dance moves\, it incorporates interval training — alternating fast and slow rhythms — to help improve cardiovascular fitness. \nNo prior experience is required. Join your neighbors to enjoy the fresh air while getting in a great workout. This event is organized and led by a neighborhood volunteer\, tips are highly encouraged. \nMeet at Virginia Highlands Park Field #3 (“Hearts Field”) at the corner of Joyce & 15th.
URL:https://aurorahighlands.org/event/outdoor-zumba-12/
LOCATION:Virginia Highlands Park West-side fields\, 1535 S Joyce St\, Arlington\, VA\, 22202\, United States
END:VEVENT
END:VCALENDAR